BEGIN:VCALENDAR
VERSION:2.0
PRODID:-//GRÜNE Stadt Luzern - ECPv6.15.15//NONSGML v1.0//EN
CALSCALE:GREGORIAN
METHOD:PUBLISH
X-WR-CALNAME:GRÜNE Stadt Luzern
X-ORIGINAL-URL:https://gruene-stadtluzern.ch
X-WR-CALDESC:Veranstaltungen für GRÜNE Stadt Luzern
REFRESH-INTERVAL;VALUE=DURATION:PT1H
X-Robots-Tag:noindex
X-PUBLISHED-TTL:PT1H
BEGIN:VTIMEZONE
TZID:Europe/Zurich
BEGIN:DAYLIGHT
TZOFFSETFROM:+0100
TZOFFSETTO:+0200
TZNAME:CEST
DTSTART:20210328T010000
END:DAYLIGHT
BEGIN:STANDARD
TZOFFSETFROM:+0200
TZOFFSETTO:+0100
TZNAME:CET
DTSTART:20211031T010000
END:STANDARD
BEGIN:DAYLIGHT
TZOFFSETFROM:+0100
TZOFFSETTO:+0200
TZNAME:CEST
DTSTART:20220327T010000
END:DAYLIGHT
BEGIN:STANDARD
TZOFFSETFROM:+0200
TZOFFSETTO:+0100
TZNAME:CET
DTSTART:20221030T010000
END:STANDARD
BEGIN:DAYLIGHT
TZOFFSETFROM:+0100
TZOFFSETTO:+0200
TZNAME:CEST
DTSTART:20230326T010000
END:DAYLIGHT
BEGIN:STANDARD
TZOFFSETFROM:+0200
TZOFFSETTO:+0100
TZNAME:CET
DTSTART:20231029T010000
END:STANDARD
END:VTIMEZONE
BEGIN:VEVENT
DTSTART;TZID=Europe/Zurich:20220607T190000
DTEND;TZID=Europe/Zurich:20220607T210000
DTSTAMP:20260426T042040
CREATED:20220520T122034Z
LAST-MODIFIED:20220520T122034Z
UID:1770-1654628400-1654635600@gruene-stadtluzern.ch
SUMMARY:Feministische Vernetzung GRÜNE
DESCRIPTION:
URL:https://gruene-stadtluzern.ch/event/feministische-vernetzung-gruene
LOCATION:Geschäftsstelle GRÜNE Luzern\, Brüggligasse 9\, Luzern\, 6004
END:VEVENT
END:VCALENDAR