BEGIN:VCALENDAR
VERSION:2.0
PRODID:-//GRÜNE Stadt Luzern - ECPv6.15.15//NONSGML v1.0//EN
CALSCALE:GREGORIAN
METHOD:PUBLISH
X-WR-CALNAME:GRÜNE Stadt Luzern
X-ORIGINAL-URL:https://gruene-stadtluzern.ch
X-WR-CALDESC:Veranstaltungen für GRÜNE Stadt Luzern
REFRESH-INTERVAL;VALUE=DURATION:PT1H
X-Robots-Tag:noindex
X-PUBLISHED-TTL:PT1H
BEGIN:VTIMEZONE
TZID:Europe/Zurich
BEGIN:DAYLIGHT
TZOFFSETFROM:+0100
TZOFFSETTO:+0200
TZNAME:CEST
DTSTART:20200329T010000
END:DAYLIGHT
BEGIN:STANDARD
TZOFFSETFROM:+0200
TZOFFSETTO:+0100
TZNAME:CET
DTSTART:20201025T010000
END:STANDARD
BEGIN:DAYLIGHT
TZOFFSETFROM:+0100
TZOFFSETTO:+0200
TZNAME:CEST
DTSTART:20210328T010000
END:DAYLIGHT
BEGIN:STANDARD
TZOFFSETFROM:+0200
TZOFFSETTO:+0100
TZNAME:CET
DTSTART:20211031T010000
END:STANDARD
BEGIN:DAYLIGHT
TZOFFSETFROM:+0100
TZOFFSETTO:+0200
TZNAME:CEST
DTSTART:20220327T010000
END:DAYLIGHT
BEGIN:STANDARD
TZOFFSETFROM:+0200
TZOFFSETTO:+0100
TZNAME:CET
DTSTART:20221030T010000
END:STANDARD
END:VTIMEZONE
BEGIN:VEVENT
DTSTART;TZID=Europe/Zurich:20210706T191500
DTEND;TZID=Europe/Zurich:20210706T191500
DTSTAMP:20260423T133152
CREATED:20210524T093024Z
LAST-MODIFIED:20210524T093024Z
UID:958-1625598900-1625598900@gruene-stadtluzern.ch
SUMMARY:Vorstandssitzung GRÜNE Stadt Luzern
DESCRIPTION:
URL:https://gruene-stadtluzern.ch/event/vorstandssitzung-gruene-stadt-luzern-17
LOCATION:Geschäftsstelle
END:VEVENT
END:VCALENDAR